BEGIN:VCALENDAR
VERSION:2.0
PRODID:-//Sven Doehner - ECPv5.8.0//NONSGML v1.0//EN
CALSCALE:GREGORIAN
METHOD:PUBLISH
X-WR-CALNAME:Sven Doehner
X-ORIGINAL-URL:https://www.svendoehner.com/en
X-WR-CALDESC:Events for Sven Doehner
BEGIN:VTIMEZONE
TZID:UTC
BEGIN:STANDARD
TZOFFSETFROM:+0000
TZOFFSETTO:+0000
TZNAME:UTC
DTSTART:20200101T000000
END:STANDARD
END:VTIMEZONE
BEGIN:VEVENT
DTSTART;VALUE=DATE:20200225
DTEND;VALUE=DATE:20200226
DTSTAMP:20260419T172832
CREATED:20200205T164150Z
LAST-MODIFIED:20200206T003922Z
UID:630-1582588800-1582675199@www.svendoehner.com
SUMMARY:Thinking Psychologically/ // ON LINE
DESCRIPTION:
URL:https://www.svendoehner.com/en/calendar/thinking-psychologically-online/
LOCATION:Lomas de Chapultepec\, Mexico City\, Mexico
ORGANIZER;CN="Sven%20Doehner":MAILTO:sven@psicologiaprofunda.com
END:VEVENT
END:VCALENDAR