BEGIN:VCALENDAR
VERSION:2.0
PRODID:-//Sven Doehner - ECPv5.8.0//NONSGML v1.0//EN
CALSCALE:GREGORIAN
METHOD:PUBLISH
X-WR-CALNAME:Sven Doehner
X-ORIGINAL-URL:https://www.svendoehner.com/en
X-WR-CALDESC:Events for Sven Doehner
BEGIN:VTIMEZONE
TZID:UTC
BEGIN:STANDARD
TZOFFSETFROM:+0000
TZOFFSETTO:+0000
TZNAME:UTC
DTSTART:20200101T000000
END:STANDARD
END:VTIMEZONE
BEGIN:VEVENT
DTSTART;VALUE=DATE:20200613
DTEND;VALUE=DATE:20200615
DTSTAMP:20260419T160522
CREATED:20200205T172604Z
LAST-MODIFIED:20200206T005754Z
UID:640-1592006400-1592179199@www.svendoehner.com
SUMMARY:Thinking Psychologically//FACE to FACE
DESCRIPTION:
URL:https://www.svendoehner.com/en/calendar/thinking-psychologically-8/
LOCATION:Lomas de Chapultepec\, Mexico City\, Mexico
ORGANIZER;CN="Sven%20Doehner":MAILTO:sven@psicologiaprofunda.com
END:VEVENT
END:VCALENDAR