BEGIN:VCALENDAR
VERSION:2.0
PRODID:-//Sven Doehner - ECPv5.8.0//NONSGML v1.0//EN
CALSCALE:GREGORIAN
METHOD:PUBLISH
X-WR-CALNAME:Sven Doehner
X-ORIGINAL-URL:https://www.svendoehner.com/en
X-WR-CALDESC:Events for Sven Doehner
BEGIN:VTIMEZONE
TZID:UTC
BEGIN:STANDARD
TZOFFSETFROM:+0000
TZOFFSETTO:+0000
TZNAME:UTC
DTSTART:20210101T000000
END:STANDARD
END:VTIMEZONE
BEGIN:VEVENT
DTSTART;VALUE=DATE:20210511
DTEND;VALUE=DATE:20210512
DTSTAMP:20260421T104513
CREATED:20210319T014130Z
LAST-MODIFIED:20210319T014130Z
UID:1013-1620691200-1620777599@www.svendoehner.com
SUMMARY:The Listening Voice an introduction to  “A Sound Imagination”
DESCRIPTION:
URL:https://www.svendoehner.com/en/calendar/the-listening-voice-an-introduction-to-a-sound-imagination/
LOCATION:via Zoom\, Mexico
ORGANIZER;CN="Sven%20Doehner":MAILTO:sven@psicologiaprofunda.com
END:VEVENT
END:VCALENDAR