BEGIN:VCALENDAR
VERSION:2.0
PRODID:-//Sven Doehner - ECPv5.8.0//NONSGML v1.0//EN
CALSCALE:GREGORIAN
METHOD:PUBLISH
X-WR-CALNAME:Sven Doehner
X-ORIGINAL-URL:https://www.svendoehner.com/en
X-WR-CALDESC:Events for Sven Doehner
BEGIN:VTIMEZONE
TZID:UTC
BEGIN:STANDARD
TZOFFSETFROM:+0000
TZOFFSETTO:+0000
TZNAME:UTC
DTSTART:20200101T000000
END:STANDARD
END:VTIMEZONE
BEGIN:VEVENT
DTSTART;TZID=UTC:20200201T100000
DTEND;TZID=UTC:20200202T190000
DTSTAMP:20260419T160535
CREATED:20200129T005947Z
LAST-MODIFIED:20200205T195403Z
UID:627-1580551200-1580670000@www.svendoehner.com
SUMMARY:Dreams
DESCRIPTION:
URL:https://www.svendoehner.com/en/calendar/dreams/
LOCATION:Lomas de Chapultepec\, Mexico City\, Mexico
ORGANIZER;CN="Sven%20Doehner":MAILTO:sven@psicologiaprofunda.com
END:VEVENT
END:VCALENDAR